Package: iSEEindex Version: 1.8.0 Command: /home/biocbuild/R/R/bin/R CMD INSTALL iSEEindex StartedAt: 2025-11-13 21:32:02 -0000 (Thu, 13 Nov 2025) EndedAt: 2025-11-13 21:32:45 -0000 (Thu, 13 Nov 2025) EllapsedTime: 42.9 seconds RetCode: 0 Status: OK