Package: iSEEindex Version: 1.8.0 Command: /home/biocbuild/R/R/bin/R CMD build --keep-empty-dirs --no-resave-data iSEEindex StartedAt: 2025-11-14 02:43:47 -0000 (Fri, 14 Nov 2025) EndedAt: 2025-11-14 02:44:55 -0000 (Fri, 14 Nov 2025) EllapsedTime: 68.0 seconds RetCode: 0 Status: OK PackageFile: iSEEindex_1.8.0.tar.gz PackageFileSize: 1.573 MiB