Package: iSEEindex Version: 1.7.0 Command: chmod a+r iSEEindex -R && F:\biocbuild\bbs-3.22-bioc\R\bin\R.exe CMD build --keep-empty-dirs --no-resave-data iSEEindex StartedAt: 2025-08-14 21:00:12 -0400 (Thu, 14 Aug 2025) EndedAt: 2025-08-14 21:01:34 -0400 (Thu, 14 Aug 2025) EllapsedTime: 82.1 seconds RetCode: 0 Status: OK PackageFile: iSEEindex_1.7.0.tar.gz PackageFileSize: 1.379 MiB