Package: iSEEindex Version: 1.8.0 Command: /Library/Frameworks/R.framework/Resources/bin/R CMD INSTALL iSEEindex StartedAt: 2025-11-03 15:30:56 -0500 (Mon, 03 Nov 2025) EndedAt: 2025-11-03 15:31:42 -0500 (Mon, 03 Nov 2025) EllapsedTime: 45.7 seconds RetCode: 0 Status: OK