Package: iSEEindex Version: 1.8.0 Command: /Library/Frameworks/R.framework/Resources/bin/R CMD build --keep-empty-dirs --no-resave-data iSEEindex StartedAt: 2025-11-03 17:29:50 -0500 (Mon, 03 Nov 2025) EndedAt: 2025-11-03 17:30:54 -0500 (Mon, 03 Nov 2025) EllapsedTime: 63.8 seconds RetCode: 0 Status: OK PackageFile: iSEEindex_1.8.0.tar.gz PackageFileSize: 1.377 MiB