Package: iSEEindex Version: 1.8.0 Command: /Library/Frameworks/R.framework/Resources/bin/R CMD INSTALL iSEEindex StartedAt: 2025-11-10 15:15:17 -0500 (Mon, 10 Nov 2025) EndedAt: 2025-11-10 15:15:31 -0500 (Mon, 10 Nov 2025) EllapsedTime: 14.4 seconds RetCode: 0 Status: OK