Package: iSEEindex Version: 1.8.0 Command: /Library/Frameworks/R.framework/Resources/bin/R CMD build --keep-empty-dirs --no-resave-data iSEEindex StartedAt: 2025-11-10 16:48:50 -0500 (Mon, 10 Nov 2025) EndedAt: 2025-11-10 16:49:12 -0500 (Mon, 10 Nov 2025) EllapsedTime: 22.3 seconds RetCode: 0 Status: OK PackageFile: iSEEindex_1.8.0.tar.gz PackageFileSize: 1.377 MiB