Package: iSEEhub Version: 1.11.0 Command: F:\biocbuild\bbs-3.22-bioc\R\bin\R.exe CMD check --no-multiarch --install=check:iSEEhub.install-out.txt --library=F:\biocbuild\bbs-3.22-bioc\R\library --no-vignettes --timings iSEEhub_1.11.0.tar.gz StartedAt: 2025-08-15 04:25:20 -0400 (Fri, 15 Aug 2025) EndedAt: 2025-08-15 04:30:16 -0400 (Fri, 15 Aug 2025) EllapsedTime: 296.1 seconds RetCode: 0 Status: OK CheckDir: iSEEhub.Rcheck Warnings: 0