Package: iSEEhub Version: 1.12.0 Command: /home/biocbuild/bbs-3.22-bioc/R/bin/R CMD INSTALL iSEEhub StartedAt: 2025-11-06 15:27:03 -0500 (Thu, 06 Nov 2025) EndedAt: 2025-11-06 15:27:37 -0500 (Thu, 06 Nov 2025) EllapsedTime: 33.8 seconds RetCode: 0 Status: OK