Package: iSEEhub Version: 1.12.0 Command: /home/biocbuild/bbs-3.22-bioc/R/bin/R CMD build --keep-empty-dirs --no-resave-data --md5 iSEEhub StartedAt: 2025-11-06 18:17:40 -0500 (Thu, 06 Nov 2025) EndedAt: 2025-11-06 18:18:35 -0500 (Thu, 06 Nov 2025) EllapsedTime: 55.0 seconds RetCode: 0 Status: OK PackageFile: iSEEhub_1.12.0.tar.gz PackageFileSize: 6.62 MiB