Package: iSEEhub Version: 1.12.0 Command: /Library/Frameworks/R.framework/Resources/bin/R CMD INSTALL iSEEhub StartedAt: 2025-11-03 15:30:48 -0500 (Mon, 03 Nov 2025) EndedAt: 2025-11-03 15:31:35 -0500 (Mon, 03 Nov 2025) EllapsedTime: 46.7 seconds RetCode: 0 Status: OK