Package: iSEEhub Version: 1.12.0 Command: /Library/Frameworks/R.framework/Resources/bin/R CMD build --keep-empty-dirs --no-resave-data iSEEhub StartedAt: 2025-11-03 17:29:32 -0500 (Mon, 03 Nov 2025) EndedAt: 2025-11-03 17:30:36 -0500 (Mon, 03 Nov 2025) EllapsedTime: 64.9 seconds RetCode: 0 Status: OK PackageFile: iSEEhub_1.12.0.tar.gz PackageFileSize: 6.619 MiB