Package: iSEEfier Version: 1.4.0 Command: rm -rf iSEEfier.buildbin-libdir && mkdir iSEEfier.buildbin-libdir && /Users/biocbuild/BBS/utils/build-universal.sh iSEEfier_1.4.0.tar.gz /Library/Frameworks/R.framework/Resources/bin/R iSEEfier.buildbin-libdir StartedAt: 2025-10-14 13:48:22 -0400 (Tue, 14 Oct 2025) EndedAt: 2025-10-14 13:50:02 -0400 (Tue, 14 Oct 2025) EllapsedTime: 99.8 seconds RetCode: 0 Status: OK PackageFile: iSEEfier_1.4.0.tgz PackageFileSize: 520.4 KiB