Package: iSEE Version: 2.20.0 Command: /Library/Frameworks/R.framework/Resources/bin/R CMD build --keep-empty-dirs --no-resave-data iSEE StartedAt: 2025-10-13 19:58:09 -0400 (Mon, 13 Oct 2025) EndedAt: 2025-10-13 20:02:50 -0400 (Mon, 13 Oct 2025) EllapsedTime: 280.6 seconds RetCode: 0 Status: OK PackageFile: iSEE_2.20.0.tar.gz PackageFileSize: 25.61 MiB