Package: iPath Version: 1.14.0 Command: /home/biocbuild/bbs-3.21-bioc/R/bin/R CMD INSTALL iPath StartedAt: 2025-10-15 15:10:30 -0400 (Wed, 15 Oct 2025) EndedAt: 2025-10-15 15:10:51 -0400 (Wed, 15 Oct 2025) EllapsedTime: 20.4 seconds RetCode: 0 Status: OK