Package: iPath Version: 1.14.0 Command: /home/biocbuild/bbs-3.21-bioc/R/bin/R CMD build --keep-empty-dirs --no-resave-data iPath StartedAt: 2025-10-15 18:07:34 -0400 (Wed, 15 Oct 2025) EndedAt: 2025-10-15 18:08:06 -0400 (Wed, 15 Oct 2025) EllapsedTime: 32.0 seconds RetCode: 1 Status: ERROR PackageFile: None PackageFileSize: NA