Package: iPath Version: 1.14.0 Command: /Library/Frameworks/R.framework/Resources/bin/R CMD check --install=check:iPath.install-out.txt --library=/Library/Frameworks/R.framework/Resources/library --no-vignettes --timings iPath_1.14.0.tar.gz StartedAt: 2025-09-09 05:10:17 -0400 (Tue, 09 Sep 2025) EndedAt: 2025-09-09 05:13:13 -0400 (Tue, 09 Sep 2025) EllapsedTime: 176.1 seconds RetCode: 0 Status: OK CheckDir: iPath.Rcheck Warnings: 0