Package: iPath Version: 1.14.0 Command: /Library/Frameworks/R.framework/Resources/bin/R CMD build --keep-empty-dirs --no-resave-data iPath StartedAt: 2025-04-21 17:14:01 -0400 (Mon, 21 Apr 2025) EndedAt: 2025-04-21 17:14:37 -0400 (Mon, 21 Apr 2025) EllapsedTime: 36.5 seconds RetCode: 0 Status: OK PackageFile: iPath_1.14.0.tar.gz PackageFileSize: 2.989 MiB