Package: iPath Version: 1.14.0 Command: /home/biocbuild/R/R/bin/R CMD check --install=check:iPath.install-out.txt --library=/home/biocbuild/R/R/site-library --no-vignettes --timings iPath_1.14.0.tar.gz StartedAt: 2025-10-07 10:43:29 -0000 (Tue, 07 Oct 2025) EndedAt: 2025-10-07 10:45:23 -0000 (Tue, 07 Oct 2025) EllapsedTime: 114.1 seconds RetCode: 0 Status: OK CheckDir: iPath.Rcheck Warnings: 0