Package: iPath Version: 1.14.0 Command: /Library/Frameworks/R.framework/Resources/bin/R CMD check --install=check:iPath.install-out.txt --library=/Library/Frameworks/R.framework/Resources/library --no-vignettes --timings iPath_1.14.0.tar.gz StartedAt: 2025-09-10 00:24:40 -0400 (Wed, 10 Sep 2025) EndedAt: 2025-09-10 00:26:54 -0400 (Wed, 10 Sep 2025) EllapsedTime: 133.6 seconds RetCode: 0 Status: OK CheckDir: iPath.Rcheck Warnings: 0