Package: iPath Version: 1.14.0 Command: rm -rf iPath.buildbin-libdir && mkdir iPath.buildbin-libdir && /Users/biocbuild/BBS/utils/build-universal.sh iPath_1.14.0.tar.gz /Library/Frameworks/R.framework/Resources/bin/R iPath.buildbin-libdir StartedAt: 2025-09-10 17:45:59 -0400 (Wed, 10 Sep 2025) EndedAt: 2025-09-10 17:46:25 -0400 (Wed, 10 Sep 2025) EllapsedTime: 25.9 seconds RetCode: 0 Status: OK PackageFile: iPath_1.14.0.tgz PackageFileSize: 3.033 MiB