Package: iNETgrate Version: 1.8.0 Command: /home/biocbuild/bbs-3.22-bioc/R/bin/R CMD INSTALL iNETgrate StartedAt: 2025-11-06 16:01:24 -0500 (Thu, 06 Nov 2025) EndedAt: 2025-11-06 16:02:25 -0500 (Thu, 06 Nov 2025) EllapsedTime: 60.7 seconds RetCode: 0 Status: OK