Package: iNETgrate Version: 1.8.0 Command: /home/biocbuild/bbs-3.22-bioc/R/bin/R CMD check --install=check:iNETgrate.install-out.txt --library=/home/biocbuild/bbs-3.22-bioc/R/site-library --timings iNETgrate_1.8.0.tar.gz StartedAt: 2025-11-07 00:36:50 -0500 (Fri, 07 Nov 2025) EndedAt: 2025-11-07 00:54:43 -0500 (Fri, 07 Nov 2025) EllapsedTime: 1073.2 seconds RetCode: 0 Status: OK CheckDir: iNETgrate.Rcheck Warnings: 0