Package: iNETgrate Version: 1.8.0 Command: /home/biocbuild/bbs-3.22-bioc/R/bin/R CMD build --keep-empty-dirs --no-resave-data --md5 iNETgrate StartedAt: 2025-11-06 18:14:05 -0500 (Thu, 06 Nov 2025) EndedAt: 2025-11-06 18:17:40 -0500 (Thu, 06 Nov 2025) EllapsedTime: 215.2 seconds RetCode: 0 Status: OK PackageFile: iNETgrate_1.8.0.tar.gz PackageFileSize: 3.981 MiB