Package: iNETgrate Version: 1.8.0 Command: /Library/Frameworks/R.framework/Resources/bin/R CMD build --keep-empty-dirs --no-resave-data iNETgrate StartedAt: 2025-11-03 17:27:15 -0500 (Mon, 03 Nov 2025) EndedAt: 2025-11-03 17:31:59 -0500 (Mon, 03 Nov 2025) EllapsedTime: 284.1 seconds RetCode: 0 Status: OK PackageFile: iNETgrate_1.8.0.tar.gz PackageFileSize: 3.978 MiB