Package: iModMix Version: 1.0.0 Command: /Library/Frameworks/R.framework/Resources/bin/R CMD INSTALL iModMix StartedAt: 2025-11-03 15:40:13 -0500 (Mon, 03 Nov 2025) EndedAt: 2025-11-03 15:40:22 -0500 (Mon, 03 Nov 2025) EllapsedTime: 9.1 seconds RetCode: 0 Status: OK