Package: iGC Version: 1.40.0 Command: /home/biocbuild/R/R/bin/R CMD check --install=check:iGC.install-out.txt --library=/home/biocbuild/R/R/site-library --no-vignettes --timings iGC_1.40.0.tar.gz StartedAt: 2025-11-21 11:55:46 -0000 (Fri, 21 Nov 2025) EndedAt: 2025-11-21 11:56:18 -0000 (Fri, 21 Nov 2025) EllapsedTime: 32.0 seconds RetCode: 0 Status: OK CheckDir: iGC.Rcheck Warnings: 0