Package: iGC Version: 1.40.0 Command: /home/biocbuild/R/R/bin/R CMD build --keep-empty-dirs --no-resave-data iGC StartedAt: 2025-11-21 03:16:40 -0000 (Fri, 21 Nov 2025) EndedAt: 2025-11-21 03:17:16 -0000 (Fri, 21 Nov 2025) EllapsedTime: 36.0 seconds RetCode: 0 Status: OK PackageFile: iGC_1.40.0.tar.gz PackageFileSize: 2.974 MiB