Package: iGC Version: 1.40.0 Command: /home/biocbuild/bbs-3.22-bioc/R/bin/R CMD build --keep-empty-dirs --no-resave-data --md5 iGC StartedAt: 2025-11-20 19:01:56 -0500 (Thu, 20 Nov 2025) EndedAt: 2025-11-20 19:02:20 -0500 (Thu, 20 Nov 2025) EllapsedTime: 24.0 seconds RetCode: 0 Status: OK PackageFile: iGC_1.40.0.tar.gz PackageFileSize: 2.953 MiB