Package: iGC Version: 1.40.0 Command: /Library/Frameworks/R.framework/Resources/bin/R CMD INSTALL iGC StartedAt: 2025-11-20 15:53:00 -0500 (Thu, 20 Nov 2025) EndedAt: 2025-11-20 15:53:18 -0500 (Thu, 20 Nov 2025) EllapsedTime: 17.5 seconds RetCode: 0 Status: OK