Package: iGC Version: 1.40.0 Command: /Library/Frameworks/R.framework/Resources/bin/R CMD check --install=check:iGC.install-out.txt --library=/Library/Frameworks/R.framework/Resources/library --no-vignettes --timings iGC_1.40.0.tar.gz StartedAt: 2025-11-21 06:36:51 -0500 (Fri, 21 Nov 2025) EndedAt: 2025-11-21 06:38:00 -0500 (Fri, 21 Nov 2025) EllapsedTime: 68.6 seconds RetCode: 0 Status: OK CheckDir: iGC.Rcheck Warnings: 0