Package: iClusterPlus Version: 1.46.0 Command: /home/biocbuild/bbs-3.22-bioc/R/bin/R CMD build --keep-empty-dirs --no-resave-data --md5 iClusterPlus StartedAt: 2025-11-09 18:15:00 -0500 (Sun, 09 Nov 2025) EndedAt: 2025-11-09 18:15:28 -0500 (Sun, 09 Nov 2025) EllapsedTime: 28.0 seconds RetCode: 0 Status: OK PackageFile: iClusterPlus_1.46.0.tar.gz PackageFileSize: 20.69 MiB