Package: iCheck Version: 1.40.0 Command: /Library/Frameworks/R.framework/Resources/bin/R CMD INSTALL iCheck StartedAt: 2025-11-20 17:38:56 -0500 (Thu, 20 Nov 2025) EndedAt: 2025-11-20 17:39:53 -0500 (Thu, 20 Nov 2025) EllapsedTime: 57.6 seconds RetCode: 0 Status: OK