Package: iCheck Version: 1.40.0 Command: /Library/Frameworks/R.framework/Resources/bin/R CMD build --keep-empty-dirs --no-resave-data iCheck StartedAt: 2025-11-20 20:53:36 -0500 (Thu, 20 Nov 2025) EndedAt: 2025-11-20 20:56:19 -0500 (Thu, 20 Nov 2025) EllapsedTime: 162.9 seconds RetCode: 0 Status: OK PackageFile: iCheck_1.40.0.tar.gz PackageFileSize: 558.7 KiB