Package: iCheck Version: 1.40.0 Command: rm -rf iCheck.buildbin-libdir && mkdir iCheck.buildbin-libdir && /Users/biocbuild/BBS/utils/build-universal.sh iCheck_1.40.0.tar.gz /Library/Frameworks/R.framework/Resources/bin/R iCheck.buildbin-libdir StartedAt: 2025-11-21 14:54:27 -0500 (Fri, 21 Nov 2025) EndedAt: 2025-11-21 14:56:12 -0500 (Fri, 21 Nov 2025) EllapsedTime: 105.3 seconds RetCode: 0 Status: OK PackageFile: iCheck_1.40.0.tgz PackageFileSize: 775.2 KiB