Package: iCNV Version: 1.30.0 Command: /home/biocbuild/bbs-3.22-bioc/R/bin/R CMD INSTALL iCNV StartedAt: 2025-11-06 15:36:50 -0500 (Thu, 06 Nov 2025) EndedAt: 2025-11-06 15:37:22 -0500 (Thu, 06 Nov 2025) EllapsedTime: 32.8 seconds RetCode: 0 Status: OK