Package: iCNV Version: 1.30.0 Command: /home/biocbuild/bbs-3.22-bioc/R/bin/R CMD build --keep-empty-dirs --no-resave-data --md5 iCNV StartedAt: 2025-11-06 18:11:02 -0500 (Thu, 06 Nov 2025) EndedAt: 2025-11-06 18:13:03 -0500 (Thu, 06 Nov 2025) EllapsedTime: 121.1 seconds RetCode: 0 Status: OK PackageFile: iCNV_1.30.0.tar.gz PackageFileSize: 2.232 MiB