Package: iCARE Version: 1.38.0 Command: /home/biocbuild/bbs-3.22-bioc/R/bin/R CMD build --keep-empty-dirs --no-resave-data --md5 iCARE StartedAt: 2025-11-10 18:15:58 -0500 (Mon, 10 Nov 2025) EndedAt: 2025-11-10 18:19:41 -0500 (Mon, 10 Nov 2025) EllapsedTime: 222.2 seconds RetCode: 0 Status: OK PackageFile: iCARE_1.38.0.tar.gz PackageFileSize: 1.421 MiB