Package: iBBiG Version: 1.53.0 Command: F:\biocbuild\bbs-3.22-bioc\R\bin\R.exe CMD check --no-multiarch --install=check:iBBiG.install-out.txt --library=F:\biocbuild\bbs-3.22-bioc\R\library --no-vignettes --timings iBBiG_1.53.0.tar.gz StartedAt: 2025-08-15 04:14:56 -0400 (Fri, 15 Aug 2025) EndedAt: 2025-08-15 04:17:21 -0400 (Fri, 15 Aug 2025) EllapsedTime: 144.4 seconds RetCode: 0 Status: OK CheckDir: iBBiG.Rcheck Warnings: 0