Package: iBBiG Version: 1.54.0 Command: /Library/Frameworks/R.framework/Resources/bin/R CMD INSTALL iBBiG StartedAt: 2025-11-03 15:17:25 -0500 (Mon, 03 Nov 2025) EndedAt: 2025-11-03 15:17:54 -0500 (Mon, 03 Nov 2025) EllapsedTime: 28.9 seconds RetCode: 0 Status: OK