Package: iBBiG Version: 1.54.0 Command: /Library/Frameworks/R.framework/Resources/bin/R CMD build --keep-empty-dirs --no-resave-data iBBiG StartedAt: 2025-11-03 17:24:12 -0500 (Mon, 03 Nov 2025) EndedAt: 2025-11-03 17:24:57 -0500 (Mon, 03 Nov 2025) EllapsedTime: 44.9 seconds RetCode: 0 Status: OK PackageFile: iBBiG_1.54.0.tar.gz PackageFileSize: 909 KiB