Package: iBBiG Version: 1.54.0 Command: /Library/Frameworks/R.framework/Resources/bin/R CMD INSTALL iBBiG StartedAt: 2025-11-06 15:06:11 -0500 (Thu, 06 Nov 2025) EndedAt: 2025-11-06 15:06:18 -0500 (Thu, 06 Nov 2025) EllapsedTime: 6.8 seconds RetCode: 0 Status: OK