Package: iBBiG Version: 1.54.0 Command: /Library/Frameworks/R.framework/Resources/bin/R CMD build --keep-empty-dirs --no-resave-data iBBiG StartedAt: 2025-11-06 16:43:25 -0500 (Thu, 06 Nov 2025) EndedAt: 2025-11-06 16:43:41 -0500 (Thu, 06 Nov 2025) EllapsedTime: 16.2 seconds RetCode: 0 Status: OK PackageFile: iBBiG_1.54.0.tar.gz PackageFileSize: 907.1 KiB