Package: iBBiG Version: 1.54.0 Maintainer: Aedin Culhane MaintainerEmail: aedin at jimmy.harvard.edu git_url: https://git.bioconductor.org/packages/iBBiG git_branch: RELEASE_3_22 git_last_commit: 077f41c git_last_commit_date: 2025-10-29 10:10:43 -0500 (Wed, 29 Oct 2025)