Package: iASeq Version: 1.52.0 Command: /home/biocbuild/R/R/bin/R CMD check --install=check:iASeq.install-out.txt --library=/home/biocbuild/R/R/site-library --no-vignettes --timings iASeq_1.52.0.tar.gz StartedAt: 2025-10-14 10:15:05 -0000 (Tue, 14 Oct 2025) EndedAt: 2025-10-14 10:15:25 -0000 (Tue, 14 Oct 2025) EllapsedTime: 20.0 seconds RetCode: 0 Status: OK CheckDir: iASeq.Rcheck Warnings: 0