Package: hypergraph Version: 1.81.0 Command: /home/biocbuild/R/R/bin/R CMD check --install=check:hypergraph.install-out.txt --library=/home/biocbuild/R/R/site-library --no-vignettes --timings hypergraph_1.81.0.tar.gz StartedAt: 2025-10-17 10:10:50 -0000 (Fri, 17 Oct 2025) EndedAt: 2025-10-17 10:11:18 -0000 (Fri, 17 Oct 2025) EllapsedTime: 27.0 seconds RetCode: 0 Status: OK CheckDir: hypergraph.Rcheck Warnings: 0