Package: hypeR Version: 2.6.0 Command: E:\biocbuild\bbs-3.21-bioc\R\bin\R.exe CMD INSTALL hypeR StartedAt: 2025-08-14 15:29:14 -0400 (Thu, 14 Aug 2025) EndedAt: 2025-08-14 15:29:23 -0400 (Thu, 14 Aug 2025) EllapsedTime: 9.8 seconds RetCode: 1 Status: ERROR