Package: hypeR Version: 2.5.0 Command: rm -rf hypeR.buildbin-libdir && mkdir hypeR.buildbin-libdir && /Users/biocbuild/BBS/utils/build-universal.sh hypeR_2.5.0.tar.gz /Library/Frameworks/R.framework/Resources/bin/R hypeR.buildbin-libdir StartedAt: 2025-03-11 22:23:04 -0400 (Tue, 11 Mar 2025) EndedAt: 2025-03-11 22:23:08 -0400 (Tue, 11 Mar 2025) EllapsedTime: 4.1 seconds RetCode: 0 Status: OK PackageFile: hypeR_2.5.0.tgz PackageFileSize: 602.8 KiB