Package: hummingbird Version: 1.20.0 Command: /home/biocbuild/R/R/bin/R CMD check --install=check:hummingbird.install-out.txt --library=/home/biocbuild/R/R/site-library --no-vignettes --timings hummingbird_1.20.0.tar.gz StartedAt: 2025-11-11 10:47:13 -0000 (Tue, 11 Nov 2025) EndedAt: 2025-11-11 10:50:17 -0000 (Tue, 11 Nov 2025) EllapsedTime: 184.3 seconds RetCode: 0 Status: OK CheckDir: hummingbird.Rcheck Warnings: 0