Package: hummingbird Version: 1.20.0 Command: /home/biocbuild/bbs-3.22-bioc/R/bin/R CMD check --install=check:hummingbird.install-out.txt --library=/home/biocbuild/bbs-3.22-bioc/R/site-library --timings hummingbird_1.20.0.tar.gz StartedAt: 2025-11-10 00:44:07 -0500 (Mon, 10 Nov 2025) EndedAt: 2025-11-10 00:46:44 -0500 (Mon, 10 Nov 2025) EllapsedTime: 156.3 seconds RetCode: 0 Status: OK CheckDir: hummingbird.Rcheck Warnings: 0